Package: IFAA Version: 1.13.0 Command: /home/biocbuild/bbs-3.23-bioc/R/bin/R CMD INSTALL IFAA StartedAt: 2025-11-20 15:32:20 -0500 (Thu, 20 Nov 2025) EndedAt: 2025-11-20 15:32:46 -0500 (Thu, 20 Nov 2025) EllapsedTime: 26.2 seconds RetCode: 0 Status: OK