Package: IFAA Version: 1.13.0 Command: /home/biocbuild/bbs-3.23-bioc/R/bin/R CMD build --keep-empty-dirs --no-resave-data IFAA StartedAt: 2025-11-20 18:09:59 -0500 (Thu, 20 Nov 2025) EndedAt: 2025-11-20 18:12:23 -0500 (Thu, 20 Nov 2025) EllapsedTime: 144.1 seconds RetCode: 0 Status: OK PackageFile: IFAA_1.13.0.tar.gz PackageFileSize: 298.3 KiB