Package: IFAA Version: 1.13.0 Command: /Library/Frameworks/R.framework/Resources/bin/R CMD INSTALL IFAA StartedAt: 2025-11-21 15:33:10 -0500 (Fri, 21 Nov 2025) EndedAt: 2025-11-21 15:33:46 -0500 (Fri, 21 Nov 2025) EllapsedTime: 36.3 seconds RetCode: 0 Status: OK