Package: IFAA Version: 1.13.0 Command: rm -rf IFAA.buildbin-libdir && mkdir IFAA.buildbin-libdir && /Users/biocbuild/BBS/utils/build-universal.sh IFAA_1.13.0.tar.gz /Library/Frameworks/R.framework/Resources/bin/R IFAA.buildbin-libdir StartedAt: 2025-11-22 01:39:14 -0500 (Sat, 22 Nov 2025) EndedAt: 2025-11-22 01:39:55 -0500 (Sat, 22 Nov 2025) EllapsedTime: 41.9 seconds RetCode: 0 Status: OK PackageFile: IFAA_1.13.0.tgz PackageFileSize: 382.8 KiB