Package: HybridMTest Version: 1.55.0 Command: /home/biocbuild/bbs-3.23-bioc/R/bin/R CMD build --keep-empty-dirs --no-resave-data HybridMTest StartedAt: 2025-11-20 18:08:34 -0500 (Thu, 20 Nov 2025) EndedAt: 2025-11-20 18:08:44 -0500 (Thu, 20 Nov 2025) EllapsedTime: 10.0 seconds RetCode: 0 Status: OK PackageFile: HybridMTest_1.55.0.tar.gz PackageFileSize: 171.8 KiB