Package: HybridMTest Version: 1.54.0 Command: /Library/Frameworks/R.framework/Resources/bin/R CMD INSTALL HybridMTest StartedAt: 2025-10-29 21:59:21 -0400 (Wed, 29 Oct 2025) EndedAt: 2025-10-29 21:59:31 -0400 (Wed, 29 Oct 2025) EllapsedTime: 10.5 seconds RetCode: 0 Status: OK