Package: HybridMTest Version: 1.53.0 Command: /Library/Frameworks/R.framework/Resources/bin/R CMD INSTALL HybridMTest StartedAt: 2025-10-08 15:13:31 -0400 (Wed, 08 Oct 2025) EndedAt: 2025-10-08 15:13:34 -0400 (Wed, 08 Oct 2025) EllapsedTime: 2.7 seconds RetCode: 0 Status: OK