Package: HybridMTest Version: 1.53.0 Command: /Library/Frameworks/R.framework/Resources/bin/R CMD build --keep-empty-dirs --no-resave-data HybridMTest StartedAt: 2025-10-08 16:50:08 -0400 (Wed, 08 Oct 2025) EndedAt: 2025-10-08 16:50:14 -0400 (Wed, 08 Oct 2025) EllapsedTime: 6.1 seconds RetCode: 0 Status: OK PackageFile: HybridMTest_1.53.0.tar.gz PackageFileSize: 171.8 KiB