Package: HybridExpress Version: 1.7.0 Command: /home/biocbuild/bbs-3.23-bioc/R/bin/R CMD INSTALL HybridExpress StartedAt: 2025-11-20 15:21:30 -0500 (Thu, 20 Nov 2025) EndedAt: 2025-11-20 15:21:57 -0500 (Thu, 20 Nov 2025) EllapsedTime: 26.5 seconds RetCode: 0 Status: OK