Package: HybridExpress Version: 1.7.0 Command: /home/biocbuild/bbs-3.23-bioc/R/bin/R CMD build --keep-empty-dirs --no-resave-data HybridExpress StartedAt: 2025-11-20 18:08:27 -0500 (Thu, 20 Nov 2025) EndedAt: 2025-11-20 18:09:44 -0500 (Thu, 20 Nov 2025) EllapsedTime: 77.1 seconds RetCode: 0 Status: OK PackageFile: HybridExpress_1.7.0.tar.gz PackageFileSize: 3.266 MiB