Package: HybridExpress Version: 1.7.0 Command: /Library/Frameworks/R.framework/Resources/bin/R CMD INSTALL HybridExpress StartedAt: 2025-11-20 15:27:24 -0500 (Thu, 20 Nov 2025) EndedAt: 2025-11-20 15:27:59 -0500 (Thu, 20 Nov 2025) EllapsedTime: 34.9 seconds RetCode: 0 Status: OK