Package: HybridExpress Version: 1.7.0 Command: /Library/Frameworks/R.framework/Resources/bin/R CMD build --keep-empty-dirs --no-resave-data HybridExpress StartedAt: 2025-11-20 17:22:48 -0500 (Thu, 20 Nov 2025) EndedAt: 2025-11-20 17:24:21 -0500 (Thu, 20 Nov 2025) EllapsedTime: 93.9 seconds RetCode: 0 Status: OK PackageFile: HybridExpress_1.7.0.tar.gz PackageFileSize: 3.415 MiB