Package: HybridExpress Version: 1.7.0 Command: rm -rf HybridExpress.buildbin-libdir && mkdir HybridExpress.buildbin-libdir && /Users/biocbuild/BBS/utils/build-universal.sh HybridExpress_1.7.0.tar.gz /Library/Frameworks/R.framework/Resources/bin/R HybridExpress.buildbin-libdir StartedAt: 2025-11-21 01:38:34 -0500 (Fri, 21 Nov 2025) EndedAt: 2025-11-21 01:39:14 -0500 (Fri, 21 Nov 2025) EllapsedTime: 39.6 seconds RetCode: 0 Status: OK PackageFile: HybridExpress_1.7.0.tgz PackageFileSize: 3.467 MiB