Package: HybridExpress Version: 1.5.0 Command: /Library/Frameworks/R.framework/Resources/bin/R CMD INSTALL HybridExpress StartedAt: 2025-10-21 15:14:40 -0400 (Tue, 21 Oct 2025) EndedAt: 2025-10-21 15:14:51 -0400 (Tue, 21 Oct 2025) EllapsedTime: 10.6 seconds RetCode: 0 Status: OK