Package: HybridExpress Version: 1.5.0 Command: /Library/Frameworks/R.framework/Resources/bin/R CMD build --keep-empty-dirs --no-resave-data HybridExpress StartedAt: 2025-10-21 16:44:45 -0400 (Tue, 21 Oct 2025) EndedAt: 2025-10-21 16:45:15 -0400 (Tue, 21 Oct 2025) EllapsedTime: 30.3 seconds RetCode: 0 Status: OK PackageFile: HybridExpress_1.5.0.tar.gz PackageFileSize: 3.457 MiB