Package: HubPub Version: 1.19.0 Command: /home/biocbuild/bbs-3.23-bioc/R/bin/R CMD INSTALL HubPub StartedAt: 2025-11-20 15:11:10 -0500 (Thu, 20 Nov 2025) EndedAt: 2025-11-20 15:11:14 -0500 (Thu, 20 Nov 2025) EllapsedTime: 3.7 seconds RetCode: 0 Status: OK