Package: HubPub Version: 1.17.1 Command: /Library/Frameworks/R.framework/Resources/bin/R CMD INSTALL HubPub StartedAt: 2025-10-20 15:13:35 -0400 (Mon, 20 Oct 2025) EndedAt: 2025-10-20 15:13:49 -0400 (Mon, 20 Oct 2025) EllapsedTime: 14.0 seconds RetCode: 0 Status: OK