Package: HubPub Version: 1.17.1 Command: /Library/Frameworks/R.framework/Resources/bin/R CMD build --keep-empty-dirs --no-resave-data HubPub StartedAt: 2025-10-20 17:36:30 -0400 (Mon, 20 Oct 2025) EndedAt: 2025-10-20 17:37:23 -0400 (Mon, 20 Oct 2025) EllapsedTime: 52.3 seconds RetCode: 0 Status: OK PackageFile: HubPub_1.17.1.tar.gz PackageFileSize: 549.4 KiB