Package: HuBMAPR Version: 1.5.0 Command: /home/biocbuild/bbs-3.23-bioc/R/bin/R CMD build --keep-empty-dirs --no-resave-data HuBMAPR StartedAt: 2025-11-07 18:04:38 -0500 (Fri, 07 Nov 2025) EndedAt: 2025-11-07 18:05:01 -0500 (Fri, 07 Nov 2025) EllapsedTime: 23.0 seconds RetCode: 0 Status: OK PackageFile: HuBMAPR_1.5.0.tar.gz PackageFileSize: 1.376 MiB