Package: HuBMAPR Version: 1.3.2 Command: /Library/Frameworks/R.framework/Resources/bin/R CMD INSTALL HuBMAPR StartedAt: 2025-10-16 15:17:27 -0400 (Thu, 16 Oct 2025) EndedAt: 2025-10-16 15:17:29 -0400 (Thu, 16 Oct 2025) EllapsedTime: 1.5 seconds RetCode: 0 Status: OK