Package: HilbertVisGUI Version: 1.69.0 Command: /home/biocbuild/bbs-3.23-bioc/R/bin/R CMD check --install=check:HilbertVisGUI.install-out.txt --library=/home/biocbuild/bbs-3.23-bioc/R/site-library --timings HilbertVisGUI_1.69.0.tar.gz StartedAt: 2025-11-21 00:28:33 -0500 (Fri, 21 Nov 2025) EndedAt: 2025-11-21 00:28:51 -0500 (Fri, 21 Nov 2025) EllapsedTime: 18.0 seconds RetCode: 0 Status: WARNINGS CheckDir: HilbertVisGUI.Rcheck Warnings: 1