Package: HilbertVisGUI Version: 1.69.0 Command: /home/biocbuild/bbs-3.23-bioc/R/bin/R CMD build --keep-empty-dirs --no-resave-data HilbertVisGUI StartedAt: 2025-11-20 18:06:52 -0500 (Thu, 20 Nov 2025) EndedAt: 2025-11-20 18:07:14 -0500 (Thu, 20 Nov 2025) EllapsedTime: 22.0 seconds RetCode: 0 Status: OK PackageFile: HilbertVisGUI_1.69.0.tar.gz PackageFileSize: 147.3 KiB