Package: HilbertVis Version: 1.69.0 Command: /home/biocbuild/bbs-3.23-bioc/R/bin/R CMD INSTALL HilbertVis StartedAt: 2025-11-20 15:02:24 -0500 (Thu, 20 Nov 2025) EndedAt: 2025-11-20 15:02:43 -0500 (Thu, 20 Nov 2025) EllapsedTime: 18.8 seconds RetCode: 0 Status: OK