Package: HilbertVis Version: 1.69.0 Command: /home/biocbuild/bbs-3.23-bioc/R/bin/R CMD build --keep-empty-dirs --no-resave-data HilbertVis StartedAt: 2025-11-20 18:06:46 -0500 (Thu, 20 Nov 2025) EndedAt: 2025-11-20 18:06:54 -0500 (Thu, 20 Nov 2025) EllapsedTime: 8.0 seconds RetCode: 0 Status: OK PackageFile: HilbertVis_1.69.0.tar.gz PackageFileSize: 1.206 MiB