Package: HilbertVis Version: 1.67.2 Command: /Library/Frameworks/R.framework/Resources/bin/R CMD build --keep-empty-dirs --no-resave-data HilbertVis StartedAt: 2025-10-14 17:31:45 -0400 (Tue, 14 Oct 2025) EndedAt: 2025-10-14 17:32:16 -0400 (Tue, 14 Oct 2025) EllapsedTime: 31.0 seconds RetCode: 0 Status: OK PackageFile: HilbertVis_1.67.2.tar.gz PackageFileSize: 1.206 MiB