Package: HilbertVis Version: 1.67.2 Command: /Library/Frameworks/R.framework/Resources/bin/R CMD build --keep-empty-dirs --no-resave-data HilbertVis StartedAt: 2025-09-29 16:41:42 -0400 (Mon, 29 Sep 2025) EndedAt: 2025-09-29 16:41:47 -0400 (Mon, 29 Sep 2025) EllapsedTime: 5.1 seconds RetCode: 0 Status: OK PackageFile: HilbertVis_1.67.2.tar.gz PackageFileSize: 1.206 MiB