Package: HilbertVis Version: 1.67.2 Command: rm -rf HilbertVis.buildbin-libdir && mkdir HilbertVis.buildbin-libdir && /Users/biocbuild/BBS/utils/build-universal.sh HilbertVis_1.67.2.tar.gz /Library/Frameworks/R.framework/Resources/bin/R HilbertVis.buildbin-libdir StartedAt: 2025-09-29 22:38:45 -0400 (Mon, 29 Sep 2025) EndedAt: 2025-09-29 22:38:47 -0400 (Mon, 29 Sep 2025) EllapsedTime: 2.1 seconds RetCode: 0 Status: OK PackageFile: HilbertVis_1.67.2.tgz PackageFileSize: 1.118 MiB