Package: HilbertVis Version: 1.69.0 Maintainer: Simon Anders MaintainerEmail: sanders at fs.tum.de git_url: https://git.bioconductor.org/packages/HilbertVis git_branch: devel git_last_commit: 7dda7ff git_last_commit_date: 2025-10-29 10:01:55 -0400 (Wed, 29 Oct 2025)