Package: HilbertCurve Version: 2.5.0 Command: /home/biocbuild/bbs-3.23-bioc/R/bin/R CMD build --keep-empty-dirs --no-resave-data HilbertCurve StartedAt: 2025-11-06 18:01:37 -0500 (Thu, 06 Nov 2025) EndedAt: 2025-11-06 18:02:00 -0500 (Thu, 06 Nov 2025) EllapsedTime: 23.0 seconds RetCode: 0 Status: OK PackageFile: HilbertCurve_2.5.0.tar.gz PackageFileSize: 407.7 KiB