Package: HilbertCurve Version: 2.3.0 Command: /Library/Frameworks/R.framework/Resources/bin/R CMD build --keep-empty-dirs --no-resave-data HilbertCurve StartedAt: 2025-10-16 18:02:28 -0400 (Thu, 16 Oct 2025) EndedAt: 2025-10-16 18:03:14 -0400 (Thu, 16 Oct 2025) EllapsedTime: 46.0 seconds RetCode: 0 Status: OK PackageFile: HilbertCurve_2.3.0.tar.gz PackageFileSize: 407.7 KiB