Package: HilbertCurve Version: 2.3.0 Command: rm -rf HilbertCurve.buildbin-libdir && mkdir HilbertCurve.buildbin-libdir && /Users/biocbuild/BBS/utils/build-universal.sh HilbertCurve_2.3.0.tar.gz /Library/Frameworks/R.framework/Resources/bin/R HilbertCurve.buildbin-libdir StartedAt: 2025-10-16 02:57:46 -0400 (Thu, 16 Oct 2025) EndedAt: 2025-10-16 02:58:20 -0400 (Thu, 16 Oct 2025) EllapsedTime: 34.6 seconds RetCode: 0 Status: OK PackageFile: HilbertCurve_2.3.0.tgz PackageFileSize: 751.3 KiB