Package: HicAggR Version: 1.5.1 Command: /home/biocbuild/R/R/bin/R CMD INSTALL HicAggR StartedAt: 2025-10-16 21:44:54 -0000 (Thu, 16 Oct 2025) EndedAt: 2025-10-16 21:45:32 -0000 (Thu, 16 Oct 2025) EllapsedTime: 37.6 seconds RetCode: 0 Status: OK