Package: HicAggR Version: 1.5.1 Command: /home/biocbuild/R/R/bin/R CMD build --keep-empty-dirs --no-resave-data HicAggR StartedAt: 2025-10-17 01:52:54 -0000 (Fri, 17 Oct 2025) EndedAt: 2025-10-17 01:58:59 -0000 (Fri, 17 Oct 2025) EllapsedTime: 365.2 seconds RetCode: 0 Status: OK PackageFile: HicAggR_1.5.1.tar.gz PackageFileSize: 2.879 MiB