Package: HicAggR Version: 1.7.0 Command: /home/biocbuild/bbs-3.23-bioc/R/bin/R CMD INSTALL HicAggR StartedAt: 2025-11-06 15:28:42 -0500 (Thu, 06 Nov 2025) EndedAt: 2025-11-06 15:29:11 -0500 (Thu, 06 Nov 2025) EllapsedTime: 28.4 seconds RetCode: 0 Status: OK