Package: HicAggR Version: 1.7.0 Command: /home/biocbuild/bbs-3.23-bioc/R/bin/R CMD build --keep-empty-dirs --no-resave-data HicAggR StartedAt: 2025-11-06 17:59:13 -0500 (Thu, 06 Nov 2025) EndedAt: 2025-11-06 18:04:13 -0500 (Thu, 06 Nov 2025) EllapsedTime: 299.3 seconds RetCode: 0 Status: OK PackageFile: HicAggR_1.7.0.tar.gz PackageFileSize: 3.158 MiB