Package: HicAggR Version: 1.5.1 Command: /Library/Frameworks/R.framework/Resources/bin/R CMD INSTALL HicAggR StartedAt: 2025-10-06 15:28:21 -0400 (Mon, 06 Oct 2025) EndedAt: 2025-10-06 15:29:01 -0400 (Mon, 06 Oct 2025) EllapsedTime: 39.5 seconds RetCode: 0 Status: OK