Package: HicAggR Version: 1.5.1 Command: /Library/Frameworks/R.framework/Resources/bin/R CMD build --keep-empty-dirs --no-resave-data HicAggR StartedAt: 2025-10-06 17:21:55 -0400 (Mon, 06 Oct 2025) EndedAt: 2025-10-06 17:28:45 -0400 (Mon, 06 Oct 2025) EllapsedTime: 410.9 seconds RetCode: 0 Status: OK PackageFile: HicAggR_1.5.1.tar.gz PackageFileSize: 3.332 MiB