Package: HicAggR Version: 1.5.1 Command: rm -rf HicAggR.buildbin-libdir && mkdir HicAggR.buildbin-libdir && /Users/biocbuild/BBS/utils/build-universal.sh HicAggR_1.5.1.tar.gz /Library/Frameworks/R.framework/Resources/bin/R HicAggR.buildbin-libdir StartedAt: 2025-10-08 02:22:02 -0400 (Wed, 08 Oct 2025) EndedAt: 2025-10-08 02:22:46 -0400 (Wed, 08 Oct 2025) EllapsedTime: 44.0 seconds RetCode: 0 Status: OK PackageFile: HicAggR_1.5.1.tgz PackageFileSize: 3.24 MiB