Package: HicAggR Version: 1.7.0 Maintainer: Olivier Cuvier MaintainerEmail: olivier.cuvier at univ-tlse3.fr git_url: https://git.bioconductor.org/packages/HicAggR git_branch: devel git_last_commit: 7e29b61 git_last_commit_date: 2025-10-29 11:30:21 -0400 (Wed, 29 Oct 2025)