Package: HiTC Version: 1.53.1 Command: /home/biocbuild/R/R/bin/R CMD INSTALL HiTC StartedAt: 2025-10-23 20:47:46 -0000 (Thu, 23 Oct 2025) EndedAt: 2025-10-23 20:48:35 -0000 (Thu, 23 Oct 2025) EllapsedTime: 49.3 seconds RetCode: 0 Status: OK