Package: HiTC Version: 1.53.1 Command: /home/biocbuild/R/R/bin/R CMD build --keep-empty-dirs --no-resave-data HiTC StartedAt: 2025-10-21 00:30:41 -0000 (Tue, 21 Oct 2025) EndedAt: 2025-10-21 00:33:10 -0000 (Tue, 21 Oct 2025) EllapsedTime: 149.1 seconds RetCode: 0 Status: OK PackageFile: HiTC_1.53.1.tar.gz PackageFileSize: 3.111 MiB