Package: HiTC Version: 1.53.1 Command: /home/biocbuild/bbs-3.22-bioc/R/bin/R CMD check --install=check:HiTC.install-out.txt --library=/home/biocbuild/bbs-3.22-bioc/R/site-library --timings HiTC_1.53.1.tar.gz StartedAt: 2025-10-16 01:19:19 -0400 (Thu, 16 Oct 2025) EndedAt: 2025-10-16 01:25:20 -0400 (Thu, 16 Oct 2025) EllapsedTime: 361.4 seconds RetCode: 0 Status: WARNINGS CheckDir: HiTC.Rcheck Warnings: 2