Package: HiTC Version: 1.55.0 Command: /home/biocbuild/bbs-3.23-bioc/R/bin/R CMD INSTALL HiTC StartedAt: 2025-11-04 15:25:34 -0500 (Tue, 04 Nov 2025) EndedAt: 2025-11-04 15:26:13 -0500 (Tue, 04 Nov 2025) EllapsedTime: 38.4 seconds RetCode: 0 Status: OK