Package: HiTC Version: 1.55.0 Command: /home/biocbuild/bbs-3.23-bioc/R/bin/R CMD build --keep-empty-dirs --no-resave-data HiTC StartedAt: 2025-11-04 18:02:00 -0500 (Tue, 04 Nov 2025) EndedAt: 2025-11-04 18:03:57 -0500 (Tue, 04 Nov 2025) EllapsedTime: 117.1 seconds RetCode: 0 Status: OK PackageFile: HiTC_1.55.0.tar.gz PackageFileSize: 3.136 MiB