Package: HiTC Version: 1.53.1 Maintainer: Nicolas Servant MaintainerEmail: nicolas.servant at curie.fr git_url: https://git.bioconductor.org/packages/HiTC git_branch: devel git_last_commit: f78211f git_last_commit_date: 2025-07-22 20:53:58 -0400 (Tue, 22 Jul 2025)