Package: HiLDA Version: 1.23.0 Command: /home/biocbuild/R/R/bin/R CMD INSTALL HiLDA StartedAt: 2025-10-02 21:30:14 -0000 (Thu, 02 Oct 2025) EndedAt: 2025-10-02 21:30:15 -0000 (Thu, 02 Oct 2025) EllapsedTime: 1.1 seconds RetCode: 1 Status: ERROR