Package: HiLDA Version: 1.25.0 Command: /home/biocbuild/bbs-3.23-bioc/R/bin/R CMD check --install=check:HiLDA.install-out.txt --library=/home/biocbuild/bbs-3.23-bioc/R/site-library --timings HiLDA_1.25.0.tar.gz StartedAt: 2025-11-07 00:12:37 -0500 (Fri, 07 Nov 2025) EndedAt: 2025-11-07 00:20:07 -0500 (Fri, 07 Nov 2025) EllapsedTime: 449.7 seconds RetCode: 0 Status: OK CheckDir: HiLDA.Rcheck Warnings: 0