Package: HiLDA Version: 1.25.0 Command: /home/biocbuild/bbs-3.23-bioc/R/bin/R CMD build --keep-empty-dirs --no-resave-data HiLDA StartedAt: 2025-11-04 18:01:48 -0500 (Tue, 04 Nov 2025) EndedAt: 2025-11-04 18:04:59 -0500 (Tue, 04 Nov 2025) EllapsedTime: 191.2 seconds RetCode: 0 Status: OK PackageFile: HiLDA_1.25.0.tar.gz PackageFileSize: 2.456 MiB