Package: HiCool Version: 1.11.0 Command: /home/biocbuild/bbs-3.23-bioc/R/bin/R CMD build --keep-empty-dirs --no-resave-data HiCool StartedAt: 2025-11-20 18:05:11 -0500 (Thu, 20 Nov 2025) EndedAt: 2025-11-20 18:06:52 -0500 (Thu, 20 Nov 2025) EllapsedTime: 100.1 seconds RetCode: 0 Status: OK PackageFile: HiCool_1.11.0.tar.gz PackageFileSize: 701.7 KiB