Package: HiCool Version: 1.9.1 Command: /Library/Frameworks/R.framework/Resources/bin/R CMD build --keep-empty-dirs --no-resave-data HiCool StartedAt: 2025-10-14 16:40:03 -0400 (Tue, 14 Oct 2025) EndedAt: 2025-10-14 16:40:58 -0400 (Tue, 14 Oct 2025) EllapsedTime: 54.6 seconds RetCode: 0 Status: OK PackageFile: HiCool_1.9.1.tar.gz PackageFileSize: 701.7 KiB